BEGIN:VCALENDAR
VERSION:2.0
PRODID:-//Tukios.com/
BEGIN:VEVENT
UID:cca69b9a-e811-438b-b8a9-f5fee8526f1f@obituaries.arlingtonparkfuneralhome.com
DTSTAMP:20260422T185321Z
DTSTART:20260502T130000Z
DTEND:20260502T150000Z
SUMMARY:Visitation
DESCRIPTION:
URL:https://obituaries.arlingtonparkfuneralhome.com/obituaries/rajendranauth-samaroo
LOCATION: 6920 Lone Star Rd  Jacksonville FL 32211
GEO:30.3325464;-81.5854472
END:VEVENT
END:VCALENDAR