BEGIN:VCALENDAR
VERSION:2.0
PRODID:-//Tukios.com/
BEGIN:VEVENT
UID:97e6e550-d44e-4d78-9872-c9ddc6951655@obituaries.arlingtonparkfuneralhome.com
DTSTAMP:20260422T184945Z
DTSTART:20260502T150000Z
DTEND:20260502T160000Z
SUMMARY:Celebration of Life
DESCRIPTION:
URL:https://obituaries.arlingtonparkfuneralhome.com/obituaries/rajendranauth-samaroo
LOCATION: 6920 Lone Star Rd  Jacksonville FL 32211
GEO:30.3325464;-81.5854472
END:VEVENT
END:VCALENDAR