BEGIN:VCALENDAR
VERSION:2.0
PRODID:-//Tukios.com/
BEGIN:VEVENT
UID:6eec9728-6830-4176-b63e-8918bcf7a1aa@obituaries.arlingtonparkfuneralhome.com
DTSTAMP:20260423T183526Z
DTSTART:20260502T183000Z
DTEND:20260502T193000Z
SUMMARY:Funeral Service
DESCRIPTION:
URL:https://obituaries.arlingtonparkfuneralhome.com/obituaries/robert-hyer
LOCATION: 6920 Lone Star Rd  Jacksonville FL 32211
GEO:30.3325464;-81.5854472
END:VEVENT
END:VCALENDAR